BEGIN:VCALENDAR
VERSION:2.0
PRODID:-//Lifelong Learning Collaborative - ECPv6.15.12.2//NONSGML v1.0//EN
CALSCALE:GREGORIAN
METHOD:PUBLISH
X-ORIGINAL-URL:https://www.lifelonglearningcollaborative.org
X-WR-CALDESC:Events for Lifelong Learning Collaborative
REFRESH-INTERVAL;VALUE=DURATION:PT1H
X-Robots-Tag:noindex
X-PUBLISHED-TTL:PT1H
BEGIN:VTIMEZONE
TZID:America/New_York
BEGIN:DAYLIGHT
TZOFFSETFROM:-0500
TZOFFSETTO:-0400
TZNAME:EDT
DTSTART:20250309T070000
END:DAYLIGHT
BEGIN:STANDARD
TZOFFSETFROM:-0400
TZOFFSETTO:-0500
TZNAME:EST
DTSTART:20251102T060000
END:STANDARD
BEGIN:DAYLIGHT
TZOFFSETFROM:-0500
TZOFFSETTO:-0400
TZNAME:EDT
DTSTART:20260308T070000
END:DAYLIGHT
BEGIN:STANDARD
TZOFFSETFROM:-0400
TZOFFSETTO:-0500
TZNAME:EST
DTSTART:20261101T060000
END:STANDARD
BEGIN:DAYLIGHT
TZOFFSETFROM:-0500
TZOFFSETTO:-0400
TZNAME:EDT
DTSTART:20270314T070000
END:DAYLIGHT
BEGIN:STANDARD
TZOFFSETFROM:-0400
TZOFFSETTO:-0500
TZNAME:EST
DTSTART:20271107T060000
END:STANDARD
END:VTIMEZONE
BEGIN:VEVENT
DTSTART;TZID=America/New_York:20260525T100000
DTEND;TZID=America/New_York:20260525T120000
DTSTAMP:20260419T161136
CREATED:20260119T162123Z
LAST-MODIFIED:20260119T162123Z
UID:10004037-1779703200-1779710400@www.lifelonglearningcollaborative.org
SUMMARY:Paint Like a Woman
DESCRIPTION:
URL:https://www.lifelonglearningcollaborative.org/event/paint-like-a-woman-2-2/2026-05-25/
LOCATION:Shriners Center\, 1 Rhodes Place\, Cranston\, RI\, 02905\, United States
CATEGORIES:Courses
END:VEVENT
BEGIN:VEVENT
DTSTART;TZID=America/New_York:20260525T130000
DTEND;TZID=America/New_York:20260525T150000
DTSTAMP:20260419T161136
CREATED:20250714T135535Z
LAST-MODIFIED:20250714T135535Z
UID:10003417-1779714000-1779721200@www.lifelonglearningcollaborative.org
SUMMARY:Hist Novel Book Club 25-26
DESCRIPTION:
URL:https://www.lifelonglearningcollaborative.org/event/hist-novel-book-club-25-26/2026-05-25/
LOCATION:ZOOM
CATEGORIES:Courses
END:VEVENT
END:VCALENDAR