BEGIN:VCALENDAR
VERSION:2.0
PRODID:-//Lifelong Learning Collaborative - ECPv6.15.12.2//NONSGML v1.0//EN
CALSCALE:GREGORIAN
METHOD:PUBLISH
X-WR-CALNAME:Lifelong Learning Collaborative
X-ORIGINAL-URL:https://www.lifelonglearningcollaborative.org
X-WR-CALDESC:Events for Lifelong Learning Collaborative
REFRESH-INTERVAL;VALUE=DURATION:PT1H
X-Robots-Tag:noindex
X-PUBLISHED-TTL:PT1H
BEGIN:VTIMEZONE
TZID:America/New_York
BEGIN:DAYLIGHT
TZOFFSETFROM:-0500
TZOFFSETTO:-0400
TZNAME:EDT
DTSTART:20250309T070000
END:DAYLIGHT
BEGIN:STANDARD
TZOFFSETFROM:-0400
TZOFFSETTO:-0500
TZNAME:EST
DTSTART:20251102T060000
END:STANDARD
BEGIN:DAYLIGHT
TZOFFSETFROM:-0500
TZOFFSETTO:-0400
TZNAME:EDT
DTSTART:20260308T070000
END:DAYLIGHT
BEGIN:STANDARD
TZOFFSETFROM:-0400
TZOFFSETTO:-0500
TZNAME:EST
DTSTART:20261101T060000
END:STANDARD
BEGIN:DAYLIGHT
TZOFFSETFROM:-0500
TZOFFSETTO:-0400
TZNAME:EDT
DTSTART:20270314T070000
END:DAYLIGHT
BEGIN:STANDARD
TZOFFSETFROM:-0400
TZOFFSETTO:-0500
TZNAME:EST
DTSTART:20271107T060000
END:STANDARD
END:VTIMEZONE
BEGIN:VEVENT
DTSTART;TZID=America/New_York:20260511T090000
DTEND;TZID=America/New_York:20260511T235900
DTSTAMP:20260419T160846
CREATED:20260406T134152Z
LAST-MODIFIED:20260406T134152Z
UID:10004244-1778490000-1778543940@www.lifelonglearningcollaborative.org
SUMMARY:Summersession Reg Opens 9 AM
DESCRIPTION:
URL:https://www.lifelonglearningcollaborative.org/event/summersession-reg-opens-9-am-2/
CATEGORIES:Semester Announcements
END:VEVENT
BEGIN:VEVENT
DTSTART;TZID=America/New_York:20260511T100000
DTEND;TZID=America/New_York:20260511T120000
DTSTAMP:20260419T160846
CREATED:20260119T140142Z
LAST-MODIFIED:20260119T140142Z
UID:10003908-1778493600-1778500800@www.lifelonglearningcollaborative.org
SUMMARY:Russian Short Stories
DESCRIPTION:Wingate Residences\, East Side of Providence
URL:https://www.lifelonglearningcollaborative.org/event/russian-short-stories/2026-05-11/
CATEGORIES:Courses
END:VEVENT
BEGIN:VEVENT
DTSTART;TZID=America/New_York:20260511T100000
DTEND;TZID=America/New_York:20260511T120000
DTSTAMP:20260419T160846
CREATED:20260119T140307Z
LAST-MODIFIED:20260119T140307Z
UID:10003918-1778493600-1778500800@www.lifelonglearningcollaborative.org
SUMMARY:Studio Art (Zoom)
DESCRIPTION:
URL:https://www.lifelonglearningcollaborative.org/event/studio-art-zoom/2026-05-11/
LOCATION:ZOOM
CATEGORIES:Courses
END:VEVENT
BEGIN:VEVENT
DTSTART;TZID=America/New_York:20260511T100000
DTEND;TZID=America/New_York:20260511T120000
DTSTAMP:20260419T160846
CREATED:20260119T140406Z
LAST-MODIFIED:20260323T131758Z
UID:10004241-1778493600-1778500800@www.lifelonglearningcollaborative.org
SUMMARY:"Magic Mountain"
DESCRIPTION:
URL:https://www.lifelonglearningcollaborative.org/event/magic-mountain/2026-05-11/
LOCATION:Shriners Center\, 1 Rhodes Place\, Cranston\, RI\, 02905\, United States
CATEGORIES:Courses
END:VEVENT
BEGIN:VEVENT
DTSTART;TZID=America/New_York:20260511T100000
DTEND;TZID=America/New_York:20260511T120000
DTSTAMP:20260419T160846
CREATED:20260119T140530Z
LAST-MODIFIED:20260323T131054Z
UID:10004231-1778493600-1778500800@www.lifelonglearningcollaborative.org
SUMMARY:Democracy
DESCRIPTION:
URL:https://www.lifelonglearningcollaborative.org/event/democracy/2026-05-11/
LOCATION:ZOOM
CATEGORIES:Courses
END:VEVENT
BEGIN:VEVENT
DTSTART;TZID=America/New_York:20260511T100000
DTEND;TZID=America/New_York:20260511T120000
DTSTAMP:20260419T160846
CREATED:20260119T162123Z
LAST-MODIFIED:20260119T162123Z
UID:10004033-1778493600-1778500800@www.lifelonglearningcollaborative.org
SUMMARY:Paint Like a Woman
DESCRIPTION:
URL:https://www.lifelonglearningcollaborative.org/event/paint-like-a-woman-2-2/2026-05-11/
LOCATION:Shriners Center\, 1 Rhodes Place\, Cranston\, RI\, 02905\, United States
CATEGORIES:Courses
END:VEVENT
BEGIN:VEVENT
DTSTART;TZID=America/New_York:20260511T130000
DTEND;TZID=America/New_York:20260511T150000
DTSTAMP:20260419T160846
CREATED:20250714T134926Z
LAST-MODIFIED:20250714T135145Z
UID:10003407-1778504400-1778511600@www.lifelonglearningcollaborative.org
SUMMARY:Detective Novel Book Club
DESCRIPTION:
URL:https://www.lifelonglearningcollaborative.org/event/detective-novel-book-club/2026-05-11/
LOCATION:Shriners Center\, 1 Rhodes Place\, Cranston\, RI\, 02905\, United States
CATEGORIES:Courses
END:VEVENT
BEGIN:VEVENT
DTSTART;TZID=America/New_York:20260511T130000
DTEND;TZID=America/New_York:20260511T150000
DTSTAMP:20260419T160846
CREATED:20260119T141809Z
LAST-MODIFIED:20260119T141809Z
UID:10003926-1778504400-1778511600@www.lifelonglearningcollaborative.org
SUMMARY:Sacred Places
DESCRIPTION:
URL:https://www.lifelonglearningcollaborative.org/event/sacred-places/2026-05-11/
LOCATION:Shriners Center\, 1 Rhodes Place\, Cranston\, RI\, 02905\, United States
CATEGORIES:Courses
END:VEVENT
BEGIN:VEVENT
DTSTART;TZID=America/New_York:20260511T130000
DTEND;TZID=America/New_York:20260511T150000
DTSTAMP:20260419T160846
CREATED:20260119T141918Z
LAST-MODIFIED:20260119T141918Z
UID:10003936-1778504400-1778511600@www.lifelonglearningcollaborative.org
SUMMARY:Irish\, Then Italians
DESCRIPTION:
URL:https://www.lifelonglearningcollaborative.org/event/irish-then-italians/2026-05-11/
LOCATION:Shriners Center\, 1 Rhodes Place\, Cranston\, RI\, 02905\, United States
CATEGORIES:Courses
END:VEVENT
END:VCALENDAR