BEGIN:VCALENDAR
VERSION:2.0
PRODID:-//Lifelong Learning Collaborative - ECPv6.15.12.2//NONSGML v1.0//EN
CALSCALE:GREGORIAN
METHOD:PUBLISH
X-ORIGINAL-URL:https://www.lifelonglearningcollaborative.org
X-WR-CALDESC:Events for Lifelong Learning Collaborative
REFRESH-INTERVAL;VALUE=DURATION:PT1H
X-Robots-Tag:noindex
X-PUBLISHED-TTL:PT1H
BEGIN:VTIMEZONE
TZID:America/New_York
BEGIN:DAYLIGHT
TZOFFSETFROM:-0500
TZOFFSETTO:-0400
TZNAME:EDT
DTSTART:20250309T070000
END:DAYLIGHT
BEGIN:STANDARD
TZOFFSETFROM:-0400
TZOFFSETTO:-0500
TZNAME:EST
DTSTART:20251102T060000
END:STANDARD
BEGIN:DAYLIGHT
TZOFFSETFROM:-0500
TZOFFSETTO:-0400
TZNAME:EDT
DTSTART:20260308T070000
END:DAYLIGHT
BEGIN:STANDARD
TZOFFSETFROM:-0400
TZOFFSETTO:-0500
TZNAME:EST
DTSTART:20261101T060000
END:STANDARD
BEGIN:DAYLIGHT
TZOFFSETFROM:-0500
TZOFFSETTO:-0400
TZNAME:EDT
DTSTART:20270314T070000
END:DAYLIGHT
BEGIN:STANDARD
TZOFFSETFROM:-0400
TZOFFSETTO:-0500
TZNAME:EST
DTSTART:20271107T060000
END:STANDARD
END:VTIMEZONE
BEGIN:VEVENT
DTSTART;VALUE=DATE:20260316
DTEND;VALUE=DATE:20260321
DTSTAMP:20260419T161122
CREATED:20260119T162012Z
LAST-MODIFIED:20260119T162012Z
UID:10004018-1773619200-1774051199@www.lifelonglearningcollaborative.org
SUMMARY:SPRING COURSES START
DESCRIPTION:
URL:https://www.lifelonglearningcollaborative.org/event/spring-courses-start/
CATEGORIES:Courses
END:VEVENT
BEGIN:VEVENT
DTSTART;TZID=America/New_York:20260318T100000
DTEND;TZID=America/New_York:20260318T120000
DTSTAMP:20260419T161122
CREATED:20260119T161816Z
LAST-MODIFIED:20260119T161816Z
UID:10004008-1773828000-1773835200@www.lifelonglearningcollaborative.org
SUMMARY:Looking at Ourselves
DESCRIPTION:
URL:https://www.lifelonglearningcollaborative.org/event/looking-at-ourselves/2026-03-18/
LOCATION:Shriners Center\, 1 Rhodes Place\, Cranston\, RI\, 02905\, United States
CATEGORIES:Courses
END:VEVENT
BEGIN:VEVENT
DTSTART;TZID=America/New_York:20260318T100000
DTEND;TZID=America/New_York:20260318T120000
DTSTAMP:20260419T161122
CREATED:20260119T162123Z
LAST-MODIFIED:20260119T162123Z
UID:10004019-1773828000-1773835200@www.lifelonglearningcollaborative.org
SUMMARY:Paint Like a Woman
DESCRIPTION:
URL:https://www.lifelonglearningcollaborative.org/event/paint-like-a-woman-2-2/2026-03-18/
LOCATION:Shriners Center\, 1 Rhodes Place\, Cranston\, RI\, 02905\, United States
CATEGORIES:Courses
END:VEVENT
BEGIN:VEVENT
DTSTART;TZID=America/New_York:20260318T100000
DTEND;TZID=America/New_York:20260318T120000
DTSTAMP:20260419T161122
CREATED:20260119T162220Z
LAST-MODIFIED:20260119T162220Z
UID:10004039-1773828000-1773835200@www.lifelonglearningcollaborative.org
SUMMARY:Independence at 250
DESCRIPTION:
URL:https://www.lifelonglearningcollaborative.org/event/independence-at-250/2026-03-18/
LOCATION:Shriners Center\, 1 Rhodes Place\, Cranston\, RI\, 02905\, United States
CATEGORIES:Courses
END:VEVENT
BEGIN:VEVENT
DTSTART;TZID=America/New_York:20260318T130000
DTEND;TZID=America/New_York:20260318T150000
DTSTAMP:20260419T161122
CREATED:20260119T162448Z
LAST-MODIFIED:20260119T162448Z
UID:10004047-1773838800-1773846000@www.lifelonglearningcollaborative.org
SUMMARY:Knitting
DESCRIPTION:
URL:https://www.lifelonglearningcollaborative.org/event/knitting/2026-03-18/
LOCATION:Shriners Center\, 1 Rhodes Place\, Cranston\, RI\, 02905\, United States
CATEGORIES:Courses
END:VEVENT
BEGIN:VEVENT
DTSTART;TZID=America/New_York:20260318T130000
DTEND;TZID=America/New_York:20260318T150000
DTSTAMP:20260419T161122
CREATED:20260119T162638Z
LAST-MODIFIED:20260119T162638Z
UID:10004049-1773838800-1773846000@www.lifelonglearningcollaborative.org
SUMMARY:Hot Topics
DESCRIPTION:
URL:https://www.lifelonglearningcollaborative.org/event/hot-topics-3-10/2026-03-18/
LOCATION:ZOOM
CATEGORIES:Courses
END:VEVENT
BEGIN:VEVENT
DTSTART;TZID=America/New_York:20260318T130000
DTEND;TZID=America/New_York:20260318T150000
DTSTAMP:20260419T161122
CREATED:20260119T162749Z
LAST-MODIFIED:20260119T162749Z
UID:10004059-1773838800-1773846000@www.lifelonglearningcollaborative.org
SUMMARY:Short Works Cather\, Wharton\, Jewett
DESCRIPTION:
URL:https://www.lifelonglearningcollaborative.org/event/short-works-cather-wharton-jewett/2026-03-18/
LOCATION:Shriners Center\, 1 Rhodes Place\, Cranston\, RI\, 02905\, United States
CATEGORIES:Courses
END:VEVENT
BEGIN:VEVENT
DTSTART;TZID=America/New_York:20260318T130000
DTEND;TZID=America/New_York:20260318T150000
DTSTAMP:20260419T161122
CREATED:20260119T162913Z
LAST-MODIFIED:20260316T150634Z
UID:10004213-1773838800-1773846000@www.lifelonglearningcollaborative.org
SUMMARY:Improv Theater
DESCRIPTION:
URL:https://www.lifelonglearningcollaborative.org/event/improv-theater/2026-03-18/
LOCATION:Shriners Center\, 1 Rhodes Place\, Cranston\, RI\, 02905\, United States
CATEGORIES:Courses
END:VEVENT
END:VCALENDAR