BEGIN:VCALENDAR
VERSION:2.0
PRODID:-//Lifelong Learning Collaborative - ECPv6.15.12.2//NONSGML v1.0//EN
CALSCALE:GREGORIAN
METHOD:PUBLISH
X-ORIGINAL-URL:https://www.lifelonglearningcollaborative.org
X-WR-CALDESC:Events for Lifelong Learning Collaborative
REFRESH-INTERVAL;VALUE=DURATION:PT1H
X-Robots-Tag:noindex
X-PUBLISHED-TTL:PT1H
BEGIN:VTIMEZONE
TZID:America/New_York
BEGIN:DAYLIGHT
TZOFFSETFROM:-0500
TZOFFSETTO:-0400
TZNAME:EDT
DTSTART:20230312T070000
END:DAYLIGHT
BEGIN:STANDARD
TZOFFSETFROM:-0400
TZOFFSETTO:-0500
TZNAME:EST
DTSTART:20231105T060000
END:STANDARD
BEGIN:DAYLIGHT
TZOFFSETFROM:-0500
TZOFFSETTO:-0400
TZNAME:EDT
DTSTART:20240310T070000
END:DAYLIGHT
BEGIN:STANDARD
TZOFFSETFROM:-0400
TZOFFSETTO:-0500
TZNAME:EST
DTSTART:20241103T060000
END:STANDARD
BEGIN:DAYLIGHT
TZOFFSETFROM:-0500
TZOFFSETTO:-0400
TZNAME:EDT
DTSTART:20250309T070000
END:DAYLIGHT
BEGIN:STANDARD
TZOFFSETFROM:-0400
TZOFFSETTO:-0500
TZNAME:EST
DTSTART:20251102T060000
END:STANDARD
END:VTIMEZONE
BEGIN:VEVENT
DTSTART;TZID=America/New_York:20241113T100000
DTEND;TZID=America/New_York:20241113T120000
DTSTAMP:20260420T092110
CREATED:20240715T133030Z
LAST-MODIFIED:20240715T133030Z
UID:10002031-1731492000-1731499200@www.lifelonglearningcollaborative.org
SUMMARY:Reading Plays Aloud
DESCRIPTION:
URL:https://www.lifelonglearningcollaborative.org/event/reading-plays-aloud/2024-11-13/
LOCATION:Temple Beth-El\, 70 Orchard Avenue\, Providence\, RI\, United States
CATEGORIES:Courses
END:VEVENT
BEGIN:VEVENT
DTSTART;TZID=America/New_York:20241113T100000
DTEND;TZID=America/New_York:20241113T120000
DTSTAMP:20260420T092110
CREATED:20240715T133428Z
LAST-MODIFIED:20240715T133428Z
UID:10002045-1731492000-1731499200@www.lifelonglearningcollaborative.org
SUMMARY:Read\, Listen\, Be Inspired\, Write
DESCRIPTION:
URL:https://www.lifelonglearningcollaborative.org/event/read-listen-be-inspired-write/2024-11-13/
LOCATION:Temple Beth-El\, 70 Orchard Avenue\, Providence\, RI\, United States
CATEGORIES:Courses
END:VEVENT
BEGIN:VEVENT
DTSTART;TZID=America/New_York:20241113T100000
DTEND;TZID=America/New_York:20241113T120000
DTSTAMP:20260420T092110
CREATED:20240715T133525Z
LAST-MODIFIED:20240715T133525Z
UID:10002058-1731492000-1731499200@www.lifelonglearningcollaborative.org
SUMMARY:Fact or Fiction
DESCRIPTION:
URL:https://www.lifelonglearningcollaborative.org/event/fact-or-fiction/2024-11-13/
LOCATION:Regency Plaza Apartments\, RI\, United States
CATEGORIES:Courses
END:VEVENT
BEGIN:VEVENT
DTSTART;TZID=America/New_York:20241113T130000
DTEND;TZID=America/New_York:20241113T150000
DTSTAMP:20260420T092110
CREATED:20240715T133809Z
LAST-MODIFIED:20240715T133809Z
UID:10002073-1731502800-1731510000@www.lifelonglearningcollaborative.org
SUMMARY:Dutch Golden Age
DESCRIPTION:
URL:https://www.lifelonglearningcollaborative.org/event/dutch-golden-age/2024-11-13/
LOCATION:Temple Beth-El\, 70 Orchard Avenue\, Providence\, RI\, United States
CATEGORIES:Courses
END:VEVENT
BEGIN:VEVENT
DTSTART;TZID=America/New_York:20241113T130000
DTEND;TZID=America/New_York:20241113T150000
DTSTAMP:20260420T092110
CREATED:20240715T133914Z
LAST-MODIFIED:20240715T133914Z
UID:10002084-1731502800-1731510000@www.lifelonglearningcollaborative.org
SUMMARY:LLC Knits
DESCRIPTION:
URL:https://www.lifelonglearningcollaborative.org/event/llc-knits-3-5/2024-11-13/
LOCATION:Temple Beth-El\, 70 Orchard Avenue\, Providence\, RI\, United States
CATEGORIES:Courses
END:VEVENT
BEGIN:VEVENT
DTSTART;TZID=America/New_York:20241113T130000
DTEND;TZID=America/New_York:20241113T150000
DTSTAMP:20260420T092110
CREATED:20240715T134033Z
LAST-MODIFIED:20240715T134033Z
UID:10002094-1731502800-1731510000@www.lifelonglearningcollaborative.org
SUMMARY:Hot Topics
DESCRIPTION:
URL:https://www.lifelonglearningcollaborative.org/event/hot-topics-3-5/2024-11-13/
LOCATION:ZOOM
CATEGORIES:Courses
END:VEVENT
END:VCALENDAR