BEGIN:VCALENDAR
VERSION:2.0
PRODID:-//Lifelong Learning Collaborative - ECPv6.15.12.2//NONSGML v1.0//EN
CALSCALE:GREGORIAN
METHOD:PUBLISH
X-ORIGINAL-URL:https://www.lifelonglearningcollaborative.org
X-WR-CALDESC:Events for Lifelong Learning Collaborative
REFRESH-INTERVAL;VALUE=DURATION:PT1H
X-Robots-Tag:noindex
X-PUBLISHED-TTL:PT1H
BEGIN:VTIMEZONE
TZID:America/New_York
BEGIN:DAYLIGHT
TZOFFSETFROM:-0500
TZOFFSETTO:-0400
TZNAME:EDT
DTSTART:20230312T070000
END:DAYLIGHT
BEGIN:STANDARD
TZOFFSETFROM:-0400
TZOFFSETTO:-0500
TZNAME:EST
DTSTART:20231105T060000
END:STANDARD
BEGIN:DAYLIGHT
TZOFFSETFROM:-0500
TZOFFSETTO:-0400
TZNAME:EDT
DTSTART:20240310T070000
END:DAYLIGHT
BEGIN:STANDARD
TZOFFSETFROM:-0400
TZOFFSETTO:-0500
TZNAME:EST
DTSTART:20241103T060000
END:STANDARD
BEGIN:DAYLIGHT
TZOFFSETFROM:-0500
TZOFFSETTO:-0400
TZNAME:EDT
DTSTART:20250309T070000
END:DAYLIGHT
BEGIN:STANDARD
TZOFFSETFROM:-0400
TZOFFSETTO:-0500
TZNAME:EST
DTSTART:20251102T060000
END:STANDARD
END:VTIMEZONE
BEGIN:VEVENT
DTSTART;TZID=America/New_York:20241112T100000
DTEND;TZID=America/New_York:20241112T120000
DTSTAMP:20260420T092154
CREATED:20240715T131745Z
LAST-MODIFIED:20240715T131745Z
UID:10001934-1731405600-1731412800@www.lifelonglearningcollaborative.org
SUMMARY:Alexander von Humboldt
DESCRIPTION:
URL:https://www.lifelonglearningcollaborative.org/event/alexander-von-humboldt/2024-11-12/
LOCATION:ZOOM
CATEGORIES:Courses
END:VEVENT
BEGIN:VEVENT
DTSTART;TZID=America/New_York:20241112T100000
DTEND;TZID=America/New_York:20241112T120000
DTSTAMP:20260420T092154
CREATED:20240715T132013Z
LAST-MODIFIED:20240715T132013Z
UID:10001954-1731405600-1731412800@www.lifelonglearningcollaborative.org
SUMMARY:Open Studio Art (TBE)
DESCRIPTION:
URL:https://www.lifelonglearningcollaborative.org/event/open-studio-art-tbe/2024-11-12/
LOCATION:Temple Beth-El\, 70 Orchard Avenue\, Providence\, RI\, United States
CATEGORIES:Courses
END:VEVENT
BEGIN:VEVENT
DTSTART;TZID=America/New_York:20241112T100000
DTEND;TZID=America/New_York:20241112T120000
DTSTAMP:20260420T092154
CREATED:20240715T132123Z
LAST-MODIFIED:20240715T132123Z
UID:10001963-1731405600-1731412800@www.lifelonglearningcollaborative.org
SUMMARY:Absurd Comedies
DESCRIPTION:
URL:https://www.lifelonglearningcollaborative.org/event/absurd-comedies/2024-11-12/
LOCATION:ZOOM
CATEGORIES:Courses
END:VEVENT
BEGIN:VEVENT
DTSTART;TZID=America/New_York:20241112T100000
DTEND;TZID=America/New_York:20241112T120000
DTSTAMP:20260420T092155
CREATED:20240715T132223Z
LAST-MODIFIED:20240715T132223Z
UID:10001974-1731405600-1731412800@www.lifelonglearningcollaborative.org
SUMMARY:Palestine
DESCRIPTION:
URL:https://www.lifelonglearningcollaborative.org/event/palestine/2024-11-12/
LOCATION:Temple Beth-El\, 70 Orchard Avenue\, Providence\, RI\, United States
CATEGORIES:Courses
END:VEVENT
BEGIN:VEVENT
DTSTART;TZID=America/New_York:20241112T130000
DTEND;TZID=America/New_York:20241112T150000
DTSTAMP:20260420T092155
CREATED:20240715T132314Z
LAST-MODIFIED:20240715T140935Z
UID:10002228-1731416400-1731423600@www.lifelonglearningcollaborative.org
SUMMARY:Cell Phone Photo Club
DESCRIPTION:
URL:https://www.lifelonglearningcollaborative.org/event/cell-phone-photo-club-2-4/2024-11-12/
LOCATION:Temple Beth-El\, 70 Orchard Avenue\, Providence\, RI\, United States
CATEGORIES:Courses
END:VEVENT
BEGIN:VEVENT
DTSTART;TZID=America/New_York:20241112T130000
DTEND;TZID=America/New_York:20241112T150000
DTSTAMP:20260420T092155
CREATED:20240715T132449Z
LAST-MODIFIED:20240715T132449Z
UID:10002002-1731416400-1731423600@www.lifelonglearningcollaborative.org
SUMMARY:Unquiet Women: Voices in Classical Music
DESCRIPTION:
URL:https://www.lifelonglearningcollaborative.org/event/unquiet-women-voices-in-classical-music/2024-11-12/
LOCATION:Temple Beth-El\, 70 Orchard Avenue\, Providence\, RI\, United States
CATEGORIES:Courses
END:VEVENT
BEGIN:VEVENT
DTSTART;TZID=America/New_York:20241112T151500
DTEND;TZID=America/New_York:20241112T170000
DTSTAMP:20260420T092155
CREATED:20240715T132735Z
LAST-MODIFIED:20240715T132735Z
UID:10002021-1731424500-1731430800@www.lifelonglearningcollaborative.org
SUMMARY:Scrabble Social Club
DESCRIPTION:
URL:https://www.lifelonglearningcollaborative.org/event/scrabble-social-club/2024-11-12/
LOCATION:Temple Beth-El\, 70 Orchard Avenue\, Providence\, RI\, United States
CATEGORIES:Courses
END:VEVENT
END:VCALENDAR