BEGIN:VCALENDAR
VERSION:2.0
PRODID:-//Lifelong Learning Collaborative - ECPv6.15.12.2//NONSGML v1.0//EN
CALSCALE:GREGORIAN
METHOD:PUBLISH
X-ORIGINAL-URL:https://www.lifelonglearningcollaborative.org
X-WR-CALDESC:Events for Lifelong Learning Collaborative
REFRESH-INTERVAL;VALUE=DURATION:PT1H
X-Robots-Tag:noindex
X-PUBLISHED-TTL:PT1H
BEGIN:VTIMEZONE
TZID:America/New_York
BEGIN:DAYLIGHT
TZOFFSETFROM:-0500
TZOFFSETTO:-0400
TZNAME:EDT
DTSTART:20230312T070000
END:DAYLIGHT
BEGIN:STANDARD
TZOFFSETFROM:-0400
TZOFFSETTO:-0500
TZNAME:EST
DTSTART:20231105T060000
END:STANDARD
BEGIN:DAYLIGHT
TZOFFSETFROM:-0500
TZOFFSETTO:-0400
TZNAME:EDT
DTSTART:20240310T070000
END:DAYLIGHT
BEGIN:STANDARD
TZOFFSETFROM:-0400
TZOFFSETTO:-0500
TZNAME:EST
DTSTART:20241103T060000
END:STANDARD
BEGIN:DAYLIGHT
TZOFFSETFROM:-0500
TZOFFSETTO:-0400
TZNAME:EDT
DTSTART:20250309T070000
END:DAYLIGHT
BEGIN:STANDARD
TZOFFSETFROM:-0400
TZOFFSETTO:-0500
TZNAME:EST
DTSTART:20251102T060000
END:STANDARD
END:VTIMEZONE
BEGIN:VEVENT
DTSTART;TZID=America/New_York:20240912T100000
DTEND;TZID=America/New_York:20240912T120000
DTSTAMP:20260419T214225
CREATED:20240715T134721Z
LAST-MODIFIED:20240715T134813Z
UID:10002107-1726135200-1726142400@www.lifelonglearningcollaborative.org
SUMMARY:Theater Conversations
DESCRIPTION:
URL:https://www.lifelonglearningcollaborative.org/event/theater-conversations-3-2/2024-09-12/
LOCATION:Temple Beth-El\, 70 Orchard Avenue\, Providence\, RI\, United States
CATEGORIES:Courses
END:VEVENT
BEGIN:VEVENT
DTSTART;TZID=America/New_York:20240912T100000
DTEND;TZID=America/New_York:20240912T120000
DTSTAMP:20260419T214225
CREATED:20240715T134948Z
LAST-MODIFIED:20240715T135149Z
UID:10002117-1726135200-1726142400@www.lifelonglearningcollaborative.org
SUMMARY:Our Brains\, Memory\, Brain Health Hybrid (TBE)
DESCRIPTION:Class will be on Zoom Oct 24
URL:https://www.lifelonglearningcollaborative.org/event/our-brains-memory-brain-health-hybrid/2024-09-12/
LOCATION:Temple Beth-El\, 70 Orchard Avenue\, Providence\, RI\, United States
CATEGORIES:Courses
END:VEVENT
BEGIN:VEVENT
DTSTART;TZID=America/New_York:20240912T100000
DTEND;TZID=America/New_York:20240912T120000
DTSTAMP:20260419T214225
CREATED:20240715T135101Z
LAST-MODIFIED:20240715T135101Z
UID:10002127-1726135200-1726142400@www.lifelonglearningcollaborative.org
SUMMARY:Our Brains\, Memory\, Brain Health Hybrid (Zoom)
DESCRIPTION:Both classes will be on Zoom on Oct 24
URL:https://www.lifelonglearningcollaborative.org/event/our-brains-memory-brain-health-hybrid-zoom/2024-09-12/
LOCATION:ZOOM
CATEGORIES:Courses
END:VEVENT
BEGIN:VEVENT
DTSTART;TZID=America/New_York:20240912T100000
DTEND;TZID=America/New_York:20240912T120000
DTSTAMP:20260419T214225
CREATED:20240715T135513Z
LAST-MODIFIED:20241016T113748Z
UID:10002137-1726135200-1726142400@www.lifelonglearningcollaborative.org
SUMMARY:Dark Humor: Saunders & Vonnegut
DESCRIPTION:Oct 17 & Oct 24 classes will meet at Laurelmead
URL:https://www.lifelonglearningcollaborative.org/event/dark-humor-saunders-vonnegut/2024-09-12/
LOCATION:Temple Beth-El\, 70 Orchard Avenue\, Providence\, RI\, United States
CATEGORIES:Courses
END:VEVENT
BEGIN:VEVENT
DTSTART;TZID=America/New_York:20240912T130000
DTEND;TZID=America/New_York:20240912T150000
DTSTAMP:20260419T214225
CREATED:20240715T140057Z
LAST-MODIFIED:20241016T113610Z
UID:10002173-1726146000-1726153200@www.lifelonglearningcollaborative.org
SUMMARY:Writing a Memoir
DESCRIPTION:Meets at Temple Beth-El with the exception of two Thursdays (Oct 17 & Oct 24) which will be on ZOOM
URL:https://www.lifelonglearningcollaborative.org/event/writing-a-memoir-3-4/2024-09-12/
LOCATION:Temple Beth-El\, 70 Orchard Avenue\, Providence\, RI\, United States
CATEGORIES:Courses
END:VEVENT
BEGIN:VEVENT
DTSTART;TZID=America/New_York:20240912T160000
DTEND;TZID=America/New_York:20240912T170000
DTSTAMP:20260419T214225
CREATED:20240813T115321Z
LAST-MODIFIED:20240813T115321Z
UID:10002230-1726156800-1726160400@www.lifelonglearningcollaborative.org
SUMMARY:Webinar Lecture feat Ben Nacar\, Pianist/Composer
DESCRIPTION:The Evolution of the Cadenza: Lecture and Live Piano Recital \nJoin us for an enchanting afternoon of music and insight with our Lecture and Live Piano Recital featuring the acclaimed pianist Ben Nacar. Ben returns to LLC to captivate us once more. This time\, he will explore the fascinating world of the cadenza\, a hallmark of the classic concerto. A particular focus will be on Beethoven’s own cadenzas. Concertos by Mozart\, Tchaikovsky\, and Rachmaninoff will also figure in this presentation. Don’t miss this unique opportunity to experience a blend of performance and education from a truly talented musician. \nBenjamin Nacar\, pianist and composer\, gives frequent performances\, both solo and in collaboration with professional and student musicians. His continuing musical adventures are documented at his website bennacar.com and his YouTube channel youtube.com/insearchofthemuses. Information about his album can be found at bennacar.bandcamp.com.
URL:https://www.lifelonglearningcollaborative.org/event/webinar-lecture-feat-ben-nacar-pianist-composer/
LOCATION:ZOOM
CATEGORIES:Free Webinars
END:VEVENT
END:VCALENDAR