BEGIN:VCALENDAR
VERSION:2.0
PRODID:-//Lifelong Learning Collaborative - ECPv6.15.12.2//NONSGML v1.0//EN
CALSCALE:GREGORIAN
METHOD:PUBLISH
X-ORIGINAL-URL:https://www.lifelonglearningcollaborative.org
X-WR-CALDESC:Events for Lifelong Learning Collaborative
REFRESH-INTERVAL;VALUE=DURATION:PT1H
X-Robots-Tag:noindex
X-PUBLISHED-TTL:PT1H
BEGIN:VTIMEZONE
TZID:America/New_York
BEGIN:DAYLIGHT
TZOFFSETFROM:-0500
TZOFFSETTO:-0400
TZNAME:EDT
DTSTART:20230312T070000
END:DAYLIGHT
BEGIN:STANDARD
TZOFFSETFROM:-0400
TZOFFSETTO:-0500
TZNAME:EST
DTSTART:20231105T060000
END:STANDARD
BEGIN:DAYLIGHT
TZOFFSETFROM:-0500
TZOFFSETTO:-0400
TZNAME:EDT
DTSTART:20240310T070000
END:DAYLIGHT
BEGIN:STANDARD
TZOFFSETFROM:-0400
TZOFFSETTO:-0500
TZNAME:EST
DTSTART:20241103T060000
END:STANDARD
BEGIN:DAYLIGHT
TZOFFSETFROM:-0500
TZOFFSETTO:-0400
TZNAME:EDT
DTSTART:20250309T070000
END:DAYLIGHT
BEGIN:STANDARD
TZOFFSETFROM:-0400
TZOFFSETTO:-0500
TZNAME:EST
DTSTART:20251102T060000
END:STANDARD
END:VTIMEZONE
BEGIN:VEVENT
DTSTART;TZID=America/New_York:20240327T100000
DTEND;TZID=America/New_York:20240327T120000
DTSTAMP:20260421T154504
CREATED:20240129T131213Z
LAST-MODIFIED:20240129T131213Z
UID:10001645-1711533600-1711540800@www.lifelonglearningcollaborative.org
SUMMARY:Contemporary Plays
DESCRIPTION:
URL:https://www.lifelonglearningcollaborative.org/event/contemporary-plays/2024-03-27/
LOCATION:Temple Beth-El\, 70 Orchard Avenue\, Providence\, RI\, United States
CATEGORIES:Courses
END:VEVENT
BEGIN:VEVENT
DTSTART;TZID=America/New_York:20240327T100000
DTEND;TZID=America/New_York:20240327T120000
DTSTAMP:20260421T154504
CREATED:20240129T131310Z
LAST-MODIFIED:20240129T131310Z
UID:10001655-1711533600-1711540800@www.lifelonglearningcollaborative.org
SUMMARY:Structures
DESCRIPTION:
URL:https://www.lifelonglearningcollaborative.org/event/structures/2024-03-27/
LOCATION:Temple Beth-El\, 70 Orchard Avenue\, Providence\, RI\, United States
CATEGORIES:Courses
END:VEVENT
BEGIN:VEVENT
DTSTART;TZID=America/New_York:20240327T100000
DTEND;TZID=America/New_York:20240327T120000
DTSTAMP:20260421T154504
CREATED:20240129T131416Z
LAST-MODIFIED:20240129T131416Z
UID:10001665-1711533600-1711540800@www.lifelonglearningcollaborative.org
SUMMARY:Write On Workshop
DESCRIPTION:
URL:https://www.lifelonglearningcollaborative.org/event/write-on-workshop/2024-03-27/
LOCATION:Regency Plaza Apartments\, RI\, United States
CATEGORIES:Courses
END:VEVENT
BEGIN:VEVENT
DTSTART;TZID=America/New_York:20240327T100000
DTEND;TZID=America/New_York:20240327T120000
DTSTAMP:20260421T154504
CREATED:20240129T131520Z
LAST-MODIFIED:20240129T131520Z
UID:10001675-1711533600-1711540800@www.lifelonglearningcollaborative.org
SUMMARY:Paint Like a Woman
DESCRIPTION:
URL:https://www.lifelonglearningcollaborative.org/event/paint-like-a-woman/2024-03-27/
LOCATION:Temple Beth-El\, 70 Orchard Avenue\, Providence\, RI\, United States
CATEGORIES:Courses
END:VEVENT
BEGIN:VEVENT
DTSTART;TZID=America/New_York:20240327T120000
DTEND;TZID=America/New_York:20240327T150000
DTSTAMP:20260421T154504
CREATED:20240129T131817Z
LAST-MODIFIED:20240129T131817Z
UID:10001695-1711540800-1711551600@www.lifelonglearningcollaborative.org
SUMMARY:B&W Photography
DESCRIPTION:
URL:https://www.lifelonglearningcollaborative.org/event/bw-photography/2024-03-27/
LOCATION:Temple Beth-El\, 70 Orchard Avenue\, Providence\, RI\, United States
CATEGORIES:Courses
END:VEVENT
BEGIN:VEVENT
DTSTART;TZID=America/New_York:20240327T130000
DTEND;TZID=America/New_York:20240327T150000
DTSTAMP:20260421T154504
CREATED:20240129T131942Z
LAST-MODIFIED:20240129T131942Z
UID:10001705-1711544400-1711551600@www.lifelonglearningcollaborative.org
SUMMARY:Hot Topics
DESCRIPTION:
URL:https://www.lifelonglearningcollaborative.org/event/hot-topics-3-4/2024-03-27/
LOCATION:Temple Beth-El\, 70 Orchard Avenue\, Providence\, RI\, United States
CATEGORIES:Courses
END:VEVENT
BEGIN:VEVENT
DTSTART;TZID=America/New_York:20240327T130000
DTEND;TZID=America/New_York:20240327T150000
DTSTAMP:20260421T154504
CREATED:20240129T132041Z
LAST-MODIFIED:20240129T132041Z
UID:10001714-1711544400-1711551600@www.lifelonglearningcollaborative.org
SUMMARY:Wilson Plays
DESCRIPTION:
URL:https://www.lifelonglearningcollaborative.org/event/wilson-plays/2024-03-27/
LOCATION:Temple Beth-El\, 70 Orchard Avenue\, Providence\, RI\, United States
CATEGORIES:Courses
END:VEVENT
BEGIN:VEVENT
DTSTART;TZID=America/New_York:20240327T130000
DTEND;TZID=America/New_York:20240327T150000
DTSTAMP:20260421T154504
CREATED:20240129T132153Z
LAST-MODIFIED:20240129T132153Z
UID:10001724-1711544400-1711551600@www.lifelonglearningcollaborative.org
SUMMARY:LLC Knits
DESCRIPTION:
URL:https://www.lifelonglearningcollaborative.org/event/llc-knits-3-4/2024-03-27/
LOCATION:Temple Beth-El\, 70 Orchard Avenue\, Providence\, RI\, United States
CATEGORIES:Courses
END:VEVENT
BEGIN:VEVENT
DTSTART;TZID=America/New_York:20240327T160000
DTEND;TZID=America/New_York:20240327T170000
DTSTAMP:20260421T154504
CREATED:20240227T153137Z
LAST-MODIFIED:20240227T153137Z
UID:10001803-1711555200-1711558800@www.lifelonglearningcollaborative.org
SUMMARY:Brown Bag Webinar w/ David N. Cicilline
DESCRIPTION:Please join us for this special opportunity to hear from former Congressman David N. Cicilline\, President and CEO of the Rhode Island Foundation. \nFormer Congressman Cicilline will join us to discuss his transition to the Foundation\, and lessons learned from his career in public service that can be applied to his work leading one of the oldest and largest community foundations in the country. \nDavid N. Cicilline represented Rhode Island’s first congressional district in the U.S. House of Representatives for 12 years\, beginning in 2011. Prior to being elected to Congress\, he was mayor of Providence for two terms from 2003 to 2011.
URL:https://www.lifelonglearningcollaborative.org/event/brown-bag-webinar-w-david-n-cicilline/
LOCATION:ZOOM
CATEGORIES:Free Webinars
END:VEVENT
END:VCALENDAR