BEGIN:VCALENDAR
VERSION:2.0
PRODID:-//Lifelong Learning Collaborative - ECPv6.15.12.2//NONSGML v1.0//EN
CALSCALE:GREGORIAN
METHOD:PUBLISH
X-ORIGINAL-URL:https://www.lifelonglearningcollaborative.org
X-WR-CALDESC:Events for Lifelong Learning Collaborative
REFRESH-INTERVAL;VALUE=DURATION:PT1H
X-Robots-Tag:noindex
X-PUBLISHED-TTL:PT1H
BEGIN:VTIMEZONE
TZID:America/New_York
BEGIN:DAYLIGHT
TZOFFSETFROM:-0500
TZOFFSETTO:-0400
TZNAME:EDT
DTSTART:20230312T070000
END:DAYLIGHT
BEGIN:STANDARD
TZOFFSETFROM:-0400
TZOFFSETTO:-0500
TZNAME:EST
DTSTART:20231105T060000
END:STANDARD
BEGIN:DAYLIGHT
TZOFFSETFROM:-0500
TZOFFSETTO:-0400
TZNAME:EDT
DTSTART:20240310T070000
END:DAYLIGHT
BEGIN:STANDARD
TZOFFSETFROM:-0400
TZOFFSETTO:-0500
TZNAME:EST
DTSTART:20241103T060000
END:STANDARD
BEGIN:DAYLIGHT
TZOFFSETFROM:-0500
TZOFFSETTO:-0400
TZNAME:EDT
DTSTART:20250309T070000
END:DAYLIGHT
BEGIN:STANDARD
TZOFFSETFROM:-0400
TZOFFSETTO:-0500
TZNAME:EST
DTSTART:20251102T060000
END:STANDARD
END:VTIMEZONE
BEGIN:VEVENT
DTSTART;TZID=America/New_York:20240213T080000
DTEND;TZID=America/New_York:20240213T170000
DTSTAMP:20260421T173624
CREATED:20231127T154706Z
LAST-MODIFIED:20231127T154706Z
UID:10001473-1707811200-1707843600@www.lifelonglearningcollaborative.org
SUMMARY:Scrabble
DESCRIPTION:
URL:https://www.lifelonglearningcollaborative.org/event/scrabble-9/2024-02-13/
LOCATION:Temple Beth-El\, 70 Orchard Avenue\, Providence\, RI\, United States
CATEGORIES:Courses
END:VEVENT
BEGIN:VEVENT
DTSTART;TZID=America/New_York:20240213T100000
DTEND;TZID=America/New_York:20240213T120000
DTSTAMP:20260421T173624
CREATED:20231127T154046Z
LAST-MODIFIED:20231127T154046Z
UID:10001441-1707818400-1707825600@www.lifelonglearningcollaborative.org
SUMMARY:Great Decisions
DESCRIPTION:
URL:https://www.lifelonglearningcollaborative.org/event/great-decisions-2-2/2024-02-13/
LOCATION:ZOOM
CATEGORIES:Courses
END:VEVENT
BEGIN:VEVENT
DTSTART;TZID=America/New_York:20240213T130000
DTEND;TZID=America/New_York:20240213T150000
DTSTAMP:20260421T173624
CREATED:20231127T154439Z
LAST-MODIFIED:20231127T154439Z
UID:10001457-1707829200-1707836400@www.lifelonglearningcollaborative.org
SUMMARY:Cell Phone Camera Club February
DESCRIPTION:
URL:https://www.lifelonglearningcollaborative.org/event/cell-phone-camera-club-february/2024-02-13/
LOCATION:Temple Beth-El\, 70 Orchard Avenue\, Providence\, RI\, United States
CATEGORIES:Courses
END:VEVENT
BEGIN:VEVENT
DTSTART;TZID=America/New_York:20240213T153000
DTEND;TZID=America/New_York:20240213T163000
DTSTAMP:20260421T173624
CREATED:20231106T123004Z
LAST-MODIFIED:20231106T123005Z
UID:10001421-1707838200-1707841800@www.lifelonglearningcollaborative.org
SUMMARY:Board Meeting
DESCRIPTION:Board Meetings are usually held the second Tuesday of the month. Board Members receive their Zoom link via email.
URL:https://www.lifelonglearningcollaborative.org/event/board-meeting-2-2/2024-02-13/
LOCATION:ZOOM
CATEGORIES:Board Meetings
END:VEVENT
END:VCALENDAR