BEGIN:VCALENDAR
VERSION:2.0
PRODID:-//Lifelong Learning Collaborative - ECPv6.15.12.2//NONSGML v1.0//EN
CALSCALE:GREGORIAN
METHOD:PUBLISH
X-WR-CALNAME:Lifelong Learning Collaborative
X-ORIGINAL-URL:https://www.lifelonglearningcollaborative.org
X-WR-CALDESC:Events for Lifelong Learning Collaborative
REFRESH-INTERVAL;VALUE=DURATION:PT1H
X-Robots-Tag:noindex
X-PUBLISHED-TTL:PT1H
BEGIN:VTIMEZONE
TZID:America/New_York
BEGIN:DAYLIGHT
TZOFFSETFROM:-0500
TZOFFSETTO:-0400
TZNAME:EDT
DTSTART:20230312T070000
END:DAYLIGHT
BEGIN:STANDARD
TZOFFSETFROM:-0400
TZOFFSETTO:-0500
TZNAME:EST
DTSTART:20231105T060000
END:STANDARD
BEGIN:DAYLIGHT
TZOFFSETFROM:-0500
TZOFFSETTO:-0400
TZNAME:EDT
DTSTART:20240310T070000
END:DAYLIGHT
BEGIN:STANDARD
TZOFFSETFROM:-0400
TZOFFSETTO:-0500
TZNAME:EST
DTSTART:20241103T060000
END:STANDARD
BEGIN:DAYLIGHT
TZOFFSETFROM:-0500
TZOFFSETTO:-0400
TZNAME:EDT
DTSTART:20250309T070000
END:DAYLIGHT
BEGIN:STANDARD
TZOFFSETFROM:-0400
TZOFFSETTO:-0500
TZNAME:EST
DTSTART:20251102T060000
END:STANDARD
END:VTIMEZONE
BEGIN:VEVENT
DTSTART;TZID=America/New_York:20240122T100000
DTEND;TZID=America/New_York:20240122T120000
DTSTAMP:20260421T195800
CREATED:20231127T153729Z
LAST-MODIFIED:20231127T153729Z
UID:10001426-1705917600-1705924800@www.lifelonglearningcollaborative.org
SUMMARY:Open Studio Art
DESCRIPTION:
URL:https://www.lifelonglearningcollaborative.org/event/open-studio-art-10/2024-01-22/
LOCATION:ZOOM
CATEGORIES:Courses
END:VEVENT
BEGIN:VEVENT
DTSTART;TZID=America/New_York:20240122T130000
DTEND;TZID=America/New_York:20240122T150000
DTSTAMP:20260421T195800
CREATED:20230717T130815Z
LAST-MODIFIED:20240715T142005Z
UID:10000856-1705928400-1705935600@www.lifelonglearningcollaborative.org
SUMMARY:Book Club
DESCRIPTION:
URL:https://www.lifelonglearningcollaborative.org/event/book-club/2024-01-22/
LOCATION:ZOOM
CATEGORIES:Courses
END:VEVENT
END:VCALENDAR